BEGIN:VCALENDAR
VERSION:2.0
PRODID:-//CRN-Contabilidade - ECPv6.10.0//NONSGML v1.0//EN
CALSCALE:GREGORIAN
METHOD:PUBLISH
X-WR-CALNAME:CRN-Contabilidade
X-ORIGINAL-URL:https://crncontabilidade.pt
X-WR-CALDESC:Events for CRN-Contabilidade
REFRESH-INTERVAL;VALUE=DURATION:PT1H
X-Robots-Tag:noindex
X-PUBLISHED-TTL:PT1H
BEGIN:VTIMEZONE
TZID:Europe/Lisbon
BEGIN:DAYLIGHT
TZOFFSETFROM:+0000
TZOFFSETTO:+0100
TZNAME:WEST
DTSTART:20250330T010000
END:DAYLIGHT
BEGIN:STANDARD
TZOFFSETFROM:+0100
TZOFFSETTO:+0000
TZNAME:WET
DTSTART:20251026T010000
END:STANDARD
TZID:UTC
BEGIN:STANDARD
TZOFFSETFROM:+0000
TZOFFSETTO:+0000
TZNAME:UTC
DTSTART:20250101T000000
END:STANDARD
END:VTIMEZONE
BEGIN:VEVENT
DTSTART;VALUE=DATE:20250310
DTEND;VALUE=DATE:20250311
DTSTAMP:20260424T052141
CREATED:20250113T165905Z
LAST-MODIFIED:20250207T142350Z
UID:13773-1741564800-1741651199@crncontabilidade.pt
SUMMARY:SS - Entrega da Declaração de Rendimento Contributivo à Segurança Social
DESCRIPTION:
URL:https://crncontabilidade.pt/calendario-fiscal/seguranca-social-marco/
LOCATION:Portugal
END:VEVENT
BEGIN:VEVENT
DTSTART;VALUE=DATE:20250310
DTEND;VALUE=DATE:20250311
DTSTAMP:20260424T052141
CREATED:20250113T164328Z
LAST-MODIFIED:20250207T142354Z
UID:13763-1741564800-1741651199@crncontabilidade.pt
SUMMARY:IRS – Entrega DMR (Declaração Mensal de Remunerações)
DESCRIPTION:
URL:https://crncontabilidade.pt/calendario-fiscal/irs-entrega-dmr-declaracao-mensal-de-remuneracoes-marco/
LOCATION:Portugal
END:VEVENT
BEGIN:VEVENT
DTSTART;VALUE=DATE:20250320
DTEND;VALUE=DATE:20250321
DTSTAMP:20260424T052141
CREATED:20250113T172441Z
LAST-MODIFIED:20250207T142346Z
UID:13820-1742428800-1742515199@crncontabilidade.pt
SUMMARY:IVA – Emissão da Declaração Periódica de IVA mensal
DESCRIPTION:
URL:https://crncontabilidade.pt/calendario-fiscal/iva-emissao-da-declaracao-periodica-de-iva-mensal-marco/
LOCATION:Portugal
END:VEVENT
BEGIN:VEVENT
DTSTART;VALUE=DATE:20250325
DTEND;VALUE=DATE:20250326
DTSTAMP:20260424T052141
CREATED:20250113T174042Z
LAST-MODIFIED:20250207T142337Z
UID:13831-1742860800-1742947199@crncontabilidade.pt
SUMMARY:Pagamento do IVA
DESCRIPTION:Pagamento de IVA após 5 dias após a emissão da Declaração Periódica de IVA
URL:https://crncontabilidade.pt/calendario-fiscal/pagamento-do-iva-marco/
LOCATION:Portugal
END:VEVENT
BEGIN:VEVENT
DTSTART;VALUE=DATE:20250331
DTEND;VALUE=DATE:20250401
DTSTAMP:20260424T052141
CREATED:20250113T181645Z
LAST-MODIFIED:20250207T170255Z
UID:13865-1743379200-1743465599@crncontabilidade.pt
SUMMARY:IRC - PEC (Pagamento Especial por Conta)
DESCRIPTION:
URL:https://crncontabilidade.pt/calendario-fiscal/irc-pec-pagamento-especial-por-conta/
LOCATION:Portugal
END:VEVENT
BEGIN:VEVENT
DTSTART;VALUE=DATE:20250331
DTEND;VALUE=DATE:20250401
DTSTAMP:20260424T052141
CREATED:20250113T181815Z
LAST-MODIFIED:20250207T170758Z
UID:13867-1743379200-1743465599@crncontabilidade.pt
SUMMARY:IRS - Efetuar a reclamação de faturas comunicadas no e-fatura (ou a sua falta)
DESCRIPTION:
URL:https://crncontabilidade.pt/calendario-fiscal/irs-efetuar-a-reclamacao-de-faturas-comunicadas-no-e-fatura-ou-a-sua-falta/
LOCATION:Portugal
END:VEVENT
END:VCALENDAR