BEGIN:VCALENDAR
VERSION:2.0
PRODID:-//CRN-Contabilidade - ECPv6.10.0//NONSGML v1.0//EN
CALSCALE:GREGORIAN
METHOD:PUBLISH
X-WR-CALNAME:CRN-Contabilidade
X-ORIGINAL-URL:https://crncontabilidade.pt
X-WR-CALDESC:Events for CRN-Contabilidade
REFRESH-INTERVAL;VALUE=DURATION:PT1H
X-Robots-Tag:noindex
X-PUBLISHED-TTL:PT1H
BEGIN:VTIMEZONE
TZID:Europe/Lisbon
BEGIN:DAYLIGHT
TZOFFSETFROM:+0000
TZOFFSETTO:+0100
TZNAME:WEST
DTSTART:20250330T010000
END:DAYLIGHT
BEGIN:STANDARD
TZOFFSETFROM:+0100
TZOFFSETTO:+0000
TZNAME:WET
DTSTART:20251026T010000
END:STANDARD
TZID:UTC
BEGIN:STANDARD
TZOFFSETFROM:+0000
TZOFFSETTO:+0000
TZNAME:UTC
DTSTART:20250101T000000
END:STANDARD
END:VTIMEZONE
BEGIN:VEVENT
DTSTART;VALUE=DATE:20250210
DTEND;VALUE=DATE:20250211
DTSTAMP:20260424T070754
CREATED:20250113T165829Z
LAST-MODIFIED:20250207T142501Z
UID:13771-1739145600-1739231999@crncontabilidade.pt
SUMMARY:SS - Entrega da Declaração de Rendimento Contributivo à Segurança Social
DESCRIPTION:
URL:https://crncontabilidade.pt/calendario-fiscal/seguranca-social-fevereiro/
LOCATION:Portugal
END:VEVENT
BEGIN:VEVENT
DTSTART;VALUE=DATE:20250210
DTEND;VALUE=DATE:20250211
DTSTAMP:20260424T070754
CREATED:20250113T164359Z
LAST-MODIFIED:20250207T142506Z
UID:13765-1739145600-1739231999@crncontabilidade.pt
SUMMARY:IRS – Entrega DMR (Declaração Mensal de Remunerações)
DESCRIPTION:
URL:https://crncontabilidade.pt/calendario-fiscal/irs-entrega-dmr-declaracao-mensal-de-remuneracoes-fevereiro/
LOCATION:Portugal
END:VEVENT
BEGIN:VEVENT
DTSTART;VALUE=DATE:20250215
DTEND;VALUE=DATE:20250216
DTSTAMP:20260424T070754
CREATED:20250113T174937Z
LAST-MODIFIED:20250207T170644Z
UID:13854-1739577600-1739663999@crncontabilidade.pt
SUMMARY:IRS - Validar o Agregado Familiar
DESCRIPTION:Validar o Agregado Familiar
URL:https://crncontabilidade.pt/calendario-fiscal/irs-validar-o-agregado-familiar/
LOCATION:Portugal
END:VEVENT
BEGIN:VEVENT
DTSTART;VALUE=DATE:20250220
DTEND;VALUE=DATE:20250221
DTSTAMP:20260424T070754
CREATED:20250113T172455Z
LAST-MODIFIED:20250207T142452Z
UID:13821-1740009600-1740095999@crncontabilidade.pt
SUMMARY:IVA – Emissão da Declaração Periódica de IVA mensal
DESCRIPTION:
URL:https://crncontabilidade.pt/calendario-fiscal/iva-emissao-da-declaracao-periodica-de-iva-mensal-fevereiro/
LOCATION:Portugal
END:VEVENT
BEGIN:VEVENT
DTSTART;VALUE=DATE:20250220
DTEND;VALUE=DATE:20250221
DTSTAMP:20260424T070754
CREATED:20250113T180805Z
LAST-MODIFIED:20250207T142448Z
UID:13856-1740009600-1740095999@crncontabilidade.pt
SUMMARY:IVA - Submeter a declaração de IVA trimestral
DESCRIPTION:IVA – Submeter a declaração de IVA trimestral
URL:https://crncontabilidade.pt/calendario-fiscal/iva-submeter-a-declaracao-de-iva-trimestral-fevereiro/
LOCATION:Portugal
END:VEVENT
BEGIN:VEVENT
DTSTART;VALUE=DATE:20250225
DTEND;VALUE=DATE:20250226
DTSTAMP:20260424T070754
CREATED:20250113T174030Z
LAST-MODIFIED:20250207T142441Z
UID:13830-1740441600-1740527999@crncontabilidade.pt
SUMMARY:Pagamento do IVA
DESCRIPTION:Pagamento de IVA após 5 dias após a emissão da Declaração Periódica de IVA
URL:https://crncontabilidade.pt/calendario-fiscal/pagamento-do-iva-fevereiro/
LOCATION:Portugal
END:VEVENT
BEGIN:VEVENT
DTSTART;VALUE=DATE:20250225
DTEND;VALUE=DATE:20250226
DTSTAMP:20260424T070754
CREATED:20250113T181057Z
LAST-MODIFIED:20250207T170557Z
UID:13858-1740441600-1740527999@crncontabilidade.pt
SUMMARY:IRS - Submeter o Modelo 10
DESCRIPTION:(Informação dos rendimentos e informações na fonte na categoria B e F\, prestados pelos trabalhadores independentes e senhorios no ano anterior)
URL:https://crncontabilidade.pt/calendario-fiscal/irs-submeter-o-modelo-10/
LOCATION:Portugal
END:VEVENT
BEGIN:VEVENT
DTSTART;VALUE=DATE:20250225
DTEND;VALUE=DATE:20250226
DTSTAMP:20260424T070754
CREATED:20250113T181223Z
LAST-MODIFIED:20250207T170729Z
UID:13861-1740441600-1740527999@crncontabilidade.pt
SUMMARY:IRS - Validar as faturas no e-Fatura
DESCRIPTION:
URL:https://crncontabilidade.pt/calendario-fiscal/irs-validar-as-faturas-no-e-fatura/
LOCATION:Portugal
END:VEVENT
END:VCALENDAR