BEGIN:VCALENDAR
VERSION:2.0
PRODID:-//CRN-Contabilidade - ECPv6.10.0//NONSGML v1.0//EN
CALSCALE:GREGORIAN
METHOD:PUBLISH
X-WR-CALNAME:CRN-Contabilidade
X-ORIGINAL-URL:https://crncontabilidade.pt
X-WR-CALDESC:Events for CRN-Contabilidade
REFRESH-INTERVAL;VALUE=DURATION:PT1H
X-Robots-Tag:noindex
X-PUBLISHED-TTL:PT1H
BEGIN:VTIMEZONE
TZID:Europe/Lisbon
BEGIN:DAYLIGHT
TZOFFSETFROM:+0000
TZOFFSETTO:+0100
TZNAME:WEST
DTSTART:20250330T010000
END:DAYLIGHT
BEGIN:STANDARD
TZOFFSETFROM:+0100
TZOFFSETTO:+0000
TZNAME:WET
DTSTART:20251026T010000
END:STANDARD
TZID:UTC
BEGIN:STANDARD
TZOFFSETFROM:+0000
TZOFFSETTO:+0000
TZNAME:UTC
DTSTART:20250101T000000
END:STANDARD
END:VTIMEZONE
BEGIN:VEVENT
DTSTART;VALUE=DATE:20250110
DTEND;VALUE=DATE:20250111
DTSTAMP:20260424T084624
CREATED:20250113T165208Z
LAST-MODIFIED:20250207T142523Z
UID:13769-1736467200-1736553599@crncontabilidade.pt
SUMMARY:SS - Entrega da Declaração de Rendimento Contributivo à Segurança Social
DESCRIPTION:
URL:https://crncontabilidade.pt/calendario-fiscal/seguranca-social-janeiro/
LOCATION:Portugal
END:VEVENT
BEGIN:VEVENT
DTSTART;VALUE=DATE:20250110
DTEND;VALUE=DATE:20250111
DTSTAMP:20260424T084624
CREATED:20250113T164441Z
LAST-MODIFIED:20250207T142527Z
UID:13767-1736467200-1736553599@crncontabilidade.pt
SUMMARY:IRS – Entrega DMR (Declaração Mensal de Remunerações)
DESCRIPTION:
URL:https://crncontabilidade.pt/calendario-fiscal/irs-entrega-dmr-declaracao-mensal-de-remuneracoes-janeiro/
LOCATION:Portugal
END:VEVENT
BEGIN:VEVENT
DTSTART;VALUE=DATE:20250120
DTEND;VALUE=DATE:20250121
DTSTAMP:20260424T084624
CREATED:20250113T172517Z
LAST-MODIFIED:20250207T142517Z
UID:13825-1737331200-1737417599@crncontabilidade.pt
SUMMARY:IVA - Emissão da Declaração Periódica de IVA mensal
DESCRIPTION:
URL:https://crncontabilidade.pt/calendario-fiscal/iva-emissao-da-declaracao-periodica-de-iva-mensal-janeiro/
LOCATION:Portugal
END:VEVENT
BEGIN:VEVENT
DTSTART;VALUE=DATE:20250125
DTEND;VALUE=DATE:20250126
DTSTAMP:20260424T084624
CREATED:20250113T173925Z
LAST-MODIFIED:20250205T115758Z
UID:13828-1737763200-1737849599@crncontabilidade.pt
SUMMARY:Pagamento do IVA
DESCRIPTION:Pagamento de IVA após 5 dias após a emissão da Declaração Periódica de IVA
URL:https://crncontabilidade.pt/calendario-fiscal/pagamento-do-iva/
LOCATION:Portugal
END:VEVENT
BEGIN:VEVENT
DTSTART;VALUE=DATE:20250131
DTEND;VALUE=DATE:20250201
DTSTAMP:20260424T084624
CREATED:20250113T174747Z
LAST-MODIFIED:20250207T170115Z
UID:13852-1738281600-1738367999@crncontabilidade.pt
SUMMARY:IRC - Submeter o Inventário das Empresas
DESCRIPTION:Submeter o Inventário das Empresas
URL:https://crncontabilidade.pt/calendario-fiscal/irc-submeter-o-inventario-das-empresas/
LOCATION:Portugal
END:VEVENT
END:VCALENDAR