BEGIN:VCALENDAR
VERSION:2.0
PRODID:-//CRN-Contabilidade - ECPv6.10.0//NONSGML v1.0//EN
CALSCALE:GREGORIAN
METHOD:PUBLISH
X-ORIGINAL-URL:https://crncontabilidade.pt
X-WR-CALDESC:Events for CRN-Contabilidade
REFRESH-INTERVAL;VALUE=DURATION:PT1H
X-Robots-Tag:noindex
X-PUBLISHED-TTL:PT1H
BEGIN:VTIMEZONE
TZID:Europe/Lisbon
BEGIN:DAYLIGHT
TZOFFSETFROM:+0000
TZOFFSETTO:+0100
TZNAME:WEST
DTSTART:20250330T010000
END:DAYLIGHT
BEGIN:STANDARD
TZOFFSETFROM:+0100
TZOFFSETTO:+0000
TZNAME:WET
DTSTART:20251026T010000
END:STANDARD
TZID:UTC
BEGIN:STANDARD
TZOFFSETFROM:+0000
TZOFFSETTO:+0000
TZNAME:UTC
DTSTART:20250101T000000
END:STANDARD
END:VTIMEZONE
BEGIN:VEVENT
DTSTART;VALUE=DATE:20250510
DTEND;VALUE=DATE:20250511
DTSTAMP:20260424T133058
CREATED:20250113T170041Z
LAST-MODIFIED:20250207T142256Z
UID:13777-1746835200-1746921599@crncontabilidade.pt
SUMMARY:SS - Entrega da Declaração de Rendimento Contributivo à Segurança Social
DESCRIPTION:
URL:https://crncontabilidade.pt/calendario-fiscal/seguranca-social-maio/
LOCATION:Portugal
END:VEVENT
BEGIN:VEVENT
DTSTART;VALUE=DATE:20250510
DTEND;VALUE=DATE:20250511
DTSTAMP:20260424T133058
CREATED:20250113T164155Z
LAST-MODIFIED:20250207T142301Z
UID:13759-1746835200-1746921599@crncontabilidade.pt
SUMMARY:IRS – Entrega DMR (Declaração Mensal de Remunerações)
DESCRIPTION:
URL:https://crncontabilidade.pt/calendario-fiscal/irs-entrega-dmr-declaracao-mensal-de-remuneracoes-maio/
LOCATION:Portugal
END:VEVENT
BEGIN:VEVENT
DTSTART;VALUE=DATE:20250520
DTEND;VALUE=DATE:20250521
DTSTAMP:20260424T133058
CREATED:20250113T172339Z
LAST-MODIFIED:20250207T142249Z
UID:13815-1747699200-1747785599@crncontabilidade.pt
SUMMARY:IVA – Emissão da Declaração Periódica de IVA mensal
DESCRIPTION:
URL:https://crncontabilidade.pt/calendario-fiscal/iva-emissao-da-declaracao-periodica-de-iva-mensal-maio/
LOCATION:Portugal
END:VEVENT
BEGIN:VEVENT
DTSTART;VALUE=DATE:20250520
DTEND;VALUE=DATE:20250521
DTSTAMP:20260424T133058
CREATED:20250113T191448Z
LAST-MODIFIED:20250207T142245Z
UID:13939-1747699200-1747785599@crncontabilidade.pt
SUMMARY:IVA - Submeter a Declaração de IVA trimestral
DESCRIPTION:
URL:https://crncontabilidade.pt/calendario-fiscal/iva-submeter-a-declaracao-de-iva-trimestral-maio/
LOCATION:Portugal
END:VEVENT
BEGIN:VEVENT
DTSTART;VALUE=DATE:20250525
DTEND;VALUE=DATE:20250526
DTSTAMP:20260424T133058
CREATED:20250113T174112Z
LAST-MODIFIED:20250207T142240Z
UID:13833-1748131200-1748217599@crncontabilidade.pt
SUMMARY:Pagamento do IVA
DESCRIPTION:Pagamento de IVA após 5 dias após a emissão da Declaração Periódica de IVA
URL:https://crncontabilidade.pt/calendario-fiscal/pagamento-do-iva-maio/
LOCATION:Portugal
END:VEVENT
BEGIN:VEVENT
DTSTART;VALUE=DATE:20250531
DTEND;VALUE=DATE:20250601
DTSTAMP:20260424T133058
CREATED:20241002T135908Z
LAST-MODIFIED:20250223T204431Z
UID:7810-1748649600-1748735999@crncontabilidade.pt
SUMMARY:IRC - Imposto sobre o Rendimento de Pessoas Coletivas
DESCRIPTION:IRC – Imposto sobre o Rendimento de Pessoas Coletivas \nO Imposto sobre o Rendimento de Pessoas Coletivas (IRC) é um imposto aplicado sobre os lucros obtidos por empresas e outras entidades sujeitas a tributação em Portugal.  \nTodas as empresas que exerçam atividade comercial\, industrial ou agrícola\, independentemente da sua dimensão\, estão obrigadas a submeter a declaração de IRC e a cumprir as suas obrigações fiscais. \nO que é o IRC?\nO IRC é o imposto que incide sobre o rendimento gerado por pessoas coletivas (empresas e entidades equiparadas) que operam em território nacional ou que têm sede ou direção efetiva em Portugal. Este imposto tributa os lucros obtidos ao longo de um período de exercício fiscal. \nComo Calcular o IRC a pagar?\nPara calcular o IRC a pagar\, deve-se seguir estes passos: \n\nDeterminar o Lucro Tributável: Parte-se do lucro contabilístico\, ao qual se aplicam ajustes fiscais\, como adições e deduções.\nAplicar a Taxa de IRC: Sobre o lucro tributável aplica-se a taxa de IRC (em Portugal é geralmente 21%) para a generalidade das empresas\, podendo variar em função de benefícios fiscais ou regimes especiais.\nDeduzir Pagamentos por Conta: Subtraem-se os montantes já pagos\, como pagamentos por conta ou especiais por conta\, para determinar o valor final do IRC a pagar.\n\nQuando se Paga o IRC?\nO pagamento do IRC é feito em diferentes momentos ao longo do ano fiscal. As principais fases incluem: \n\nPagamentos por Conta: São efetuados em três prestações (julho\, setembro e dezembro)\, baseando-se no imposto apurado no exercício anterior.\nDeclaração Anual de IRC (Modelo 22): Submetida até ao final de maio\, com o pagamento do saldo de IRC devido (se aplicável).\nPagamento Especial por Conta: Uma forma de antecipar o pagamento do IRC\, exigido em determinadas situações\, em duas prestações (março e outubro).\n\nComo Pagar o IRC em Prestações?\nSe a sua empresa tiver dificuldades em pagar o IRC de uma só vez\, é possível solicitar à Autoridade Tributária o pagamento do imposto em prestações. Este pedido deve ser feito após a submissão da declaração de IRC\, justificando a necessidade de escalonar o pagamento. A aceitação deste pedido depende da avaliação por parte das Finanças e pode incluir a apresentação de garantias. \nApoio na Declaração de IRC\nA CRN-Contabilidade acompanha todas as etapas do processo de IRC\, desde o cálculo do imposto\, passando pela preparação e submissão da declaração de IRC\, até ao pagamento do imposto. A nossa equipa de especialistas garante que a sua empresa cumpre todas as obrigações fiscais de forma eficiente e otimizada\, sem riscos. \nSe tiver dúvidas sobre o imposto IRC\, taxa de IRC ou precisa de ajuda com a sua declaração de IRC\, contacte-nos. Estamos aqui para garantir que a sua empresa cumpre todas as suas obrigações fiscais de forma rigorosa e atempada. \nMarcar Reunião
URL:https://crncontabilidade.pt/calendario-fiscal/irc-imposto-sobre-o-rendimento-de-pessoas-coletivas/
LOCATION:Portugal
END:VEVENT
BEGIN:VEVENT
DTSTART;VALUE=DATE:20250610
DTEND;VALUE=DATE:20250611
DTSTAMP:20260424T133058
CREATED:20250113T170323Z
LAST-MODIFIED:20250207T142106Z
UID:13779-1749513600-1749599999@crncontabilidade.pt
SUMMARY:SS - Entrega da Declaração de Rendimento Contributivo à Segurança Social
DESCRIPTION:
URL:https://crncontabilidade.pt/calendario-fiscal/seguranca-social-junho/
LOCATION:Portugal
END:VEVENT
BEGIN:VEVENT
DTSTART;VALUE=DATE:20250610
DTEND;VALUE=DATE:20250611
DTSTAMP:20260424T133058
CREATED:20250113T164115Z
LAST-MODIFIED:20250207T142229Z
UID:13757-1749513600-1749599999@crncontabilidade.pt
SUMMARY:IRS – Entrega DMR (Declaração Mensal de Remunerações)
DESCRIPTION:
URL:https://crncontabilidade.pt/calendario-fiscal/irs-entrega-dmr-declaracao-mensal-de-remuneracoes-junho/
LOCATION:Portugal
END:VEVENT
BEGIN:VEVENT
DTSTART;VALUE=DATE:20250620
DTEND;VALUE=DATE:20250621
DTSTAMP:20260424T133058
CREATED:20250113T172322Z
LAST-MODIFIED:20250207T142101Z
UID:13814-1750377600-1750463999@crncontabilidade.pt
SUMMARY:IVA – Emissão da Declaração Periódica de IVA mensal
DESCRIPTION:
URL:https://crncontabilidade.pt/calendario-fiscal/iva-emissao-da-declaracao-periodica-de-iva-mensal-junho/
LOCATION:Portugal
END:VEVENT
BEGIN:VEVENT
DTSTART;VALUE=DATE:20250625
DTEND;VALUE=DATE:20250626
DTSTAMP:20260424T133058
CREATED:20250113T174125Z
LAST-MODIFIED:20250207T142056Z
UID:13834-1750809600-1750895999@crncontabilidade.pt
SUMMARY:Pagamento do IVA
DESCRIPTION:Pagamento de IVA após 5 dias após a emissão da Declaração Periódica de IVA
URL:https://crncontabilidade.pt/calendario-fiscal/pagamento-do-iva-junho/
LOCATION:Portugal
END:VEVENT
BEGIN:VEVENT
DTSTART;VALUE=DATE:20250630
DTEND;VALUE=DATE:20250701
DTSTAMP:20260424T133058
CREATED:20250113T191625Z
LAST-MODIFIED:20250207T170911Z
UID:13941-1751241600-1751327999@crncontabilidade.pt
SUMMARY:IRS - Data de Fim de Entrega do Modelo 3
DESCRIPTION:
URL:https://crncontabilidade.pt/calendario-fiscal/irs-data-de-fim-de-entrega-do-modelo-3/
LOCATION:Portugal
END:VEVENT
BEGIN:VEVENT
DTSTART;VALUE=DATE:20250710
DTEND;VALUE=DATE:20250711
DTSTAMP:20260424T133058
CREATED:20250113T170346Z
LAST-MODIFIED:20250207T142043Z
UID:13781-1752105600-1752191999@crncontabilidade.pt
SUMMARY:SS - Entrega da Declaração de Rendimento Contributivo à Segurança Social
DESCRIPTION:
URL:https://crncontabilidade.pt/calendario-fiscal/seguranca-social-julho/
LOCATION:Portugal
END:VEVENT
BEGIN:VEVENT
DTSTART;VALUE=DATE:20250710
DTEND;VALUE=DATE:20250711
DTSTAMP:20260424T133058
CREATED:20250113T164037Z
LAST-MODIFIED:20250207T142048Z
UID:13755-1752105600-1752191999@crncontabilidade.pt
SUMMARY:IRS – Entrega DMR (Declaração Mensal de Remunerações)
DESCRIPTION:
URL:https://crncontabilidade.pt/calendario-fiscal/irs-entrega-dmr-declaracao-mensal-de-remuneracoes-julho/
LOCATION:Portugal
END:VEVENT
BEGIN:VEVENT
DTSTART;VALUE=DATE:20250715
DTEND;VALUE=DATE:20250716
DTSTAMP:20260424T133058
CREATED:20250113T191810Z
LAST-MODIFIED:20250207T170955Z
UID:13943-1752537600-1752623999@crncontabilidade.pt
SUMMARY:IES - Submissão
DESCRIPTION:IES é até 15 de Julho
URL:https://crncontabilidade.pt/calendario-fiscal/ies-submissao/
LOCATION:Portugal
END:VEVENT
BEGIN:VEVENT
DTSTART;VALUE=DATE:20250715
DTEND;VALUE=DATE:20250716
DTSTAMP:20260424T133058
CREATED:20250113T191945Z
LAST-MODIFIED:20250207T171041Z
UID:13945-1752537600-1752623999@crncontabilidade.pt
SUMMARY:Modelo 22 - Submissão e Pagamento
DESCRIPTION:Submissão da Declaração Modelo 22 e Pagamento do Imposto
URL:https://crncontabilidade.pt/calendario-fiscal/modelo-22-submissao-e-pagamento/
LOCATION:Portugal
END:VEVENT
BEGIN:VEVENT
DTSTART;VALUE=DATE:20250720
DTEND;VALUE=DATE:20250721
DTSTAMP:20260424T133058
CREATED:20250113T172309Z
LAST-MODIFIED:20250207T142032Z
UID:13813-1752969600-1753055999@crncontabilidade.pt
SUMMARY:IVA – Emissão da Declaração Periódica de IVA mensal
DESCRIPTION:
URL:https://crncontabilidade.pt/calendario-fiscal/iva-emissao-da-declaracao-periodica-de-iva-mensal-julho/
LOCATION:Portugal
END:VEVENT
BEGIN:VEVENT
DTSTART;VALUE=DATE:20250725
DTEND;VALUE=DATE:20250726
DTSTAMP:20260424T133058
CREATED:20250113T174223Z
LAST-MODIFIED:20250207T142022Z
UID:13840-1753401600-1753487999@crncontabilidade.pt
SUMMARY:Pagamento do IVA
DESCRIPTION:Pagamento de IVA após 5 dias após a emissão da Declaração Periódica de IVA
URL:https://crncontabilidade.pt/calendario-fiscal/pagamento-do-iva-julho/
LOCATION:Portugal
END:VEVENT
BEGIN:VEVENT
DTSTART;VALUE=DATE:20250731
DTEND;VALUE=DATE:20250801
DTSTAMP:20260424T133058
CREATED:20250113T192216Z
LAST-MODIFIED:20250207T171125Z
UID:13947-1753920000-1754006399@crncontabilidade.pt
SUMMARY:IRC - PPC (Pagamento por Conta)
DESCRIPTION:
URL:https://crncontabilidade.pt/calendario-fiscal/irc-ppc-pagamento-por-conta/
LOCATION:Portugal
END:VEVENT
BEGIN:VEVENT
DTSTART;VALUE=DATE:20250731
DTEND;VALUE=DATE:20250801
DTSTAMP:20260424T133058
CREATED:20250113T192313Z
LAST-MODIFIED:20250207T171156Z
UID:13949-1753920000-1754006399@crncontabilidade.pt
SUMMARY:IRS - Prazo Limite
DESCRIPTION:Receber e Pagar
URL:https://crncontabilidade.pt/calendario-fiscal/irs-prazo-limite/
LOCATION:Portugal
END:VEVENT
BEGIN:VEVENT
DTSTART;VALUE=DATE:20250810
DTEND;VALUE=DATE:20250811
DTSTAMP:20260424T133058
CREATED:20250113T170408Z
LAST-MODIFIED:20250207T142007Z
UID:13783-1754784000-1754870399@crncontabilidade.pt
SUMMARY:SS - Entrega da Declaração de Rendimento Contributivo à Segurança Social
DESCRIPTION:
URL:https://crncontabilidade.pt/calendario-fiscal/seguranca-social-agosto/
LOCATION:Portugal
END:VEVENT
BEGIN:VEVENT
DTSTART;VALUE=DATE:20250831
DTEND;VALUE=DATE:20250901
DTSTAMP:20260424T133058
CREATED:20250113T163202Z
LAST-MODIFIED:20250207T142002Z
UID:13753-1756598400-1756684799@crncontabilidade.pt
SUMMARY:IRS – Entrega DMR (Declaração Mensal de Remunerações)
DESCRIPTION:
URL:https://crncontabilidade.pt/calendario-fiscal/irs-entrega-dmr-declaracao-mensal-de-remuneracoes-agosto/
LOCATION:Portugal
END:VEVENT
BEGIN:VEVENT
DTSTART;VALUE=DATE:20250831
DTEND;VALUE=DATE:20250901
DTSTAMP:20260424T133058
CREATED:20250113T172224Z
LAST-MODIFIED:20250207T141952Z
UID:13811-1756598400-1756684799@crncontabilidade.pt
SUMMARY:IVA – Emissão da Declaração Periódica de IVA mensal
DESCRIPTION:
URL:https://crncontabilidade.pt/calendario-fiscal/iva-emissao-da-declaracao-periodica-de-iva-mensal-agosto/
LOCATION:Portugal
END:VEVENT
BEGIN:VEVENT
DTSTART;VALUE=DATE:20250831
DTEND;VALUE=DATE:20250901
DTSTAMP:20260424T133058
CREATED:20250113T174231Z
LAST-MODIFIED:20250207T141945Z
UID:13841-1756598400-1756684799@crncontabilidade.pt
SUMMARY:Pagamento do IVA
DESCRIPTION:Pagamento de IVA após 5 dias após a emissão da Declaração Periódica de IVA
URL:https://crncontabilidade.pt/calendario-fiscal/pagamento-do-iva-agosto/
LOCATION:Portugal
END:VEVENT
BEGIN:VEVENT
DTSTART;VALUE=DATE:20250905
DTEND;VALUE=DATE:20250906
DTSTAMP:20260424T133058
CREATED:20250113T192919Z
LAST-MODIFIED:20250207T141938Z
UID:13952-1757030400-1757116799@crncontabilidade.pt
SUMMARY:Pagamento do IVA
DESCRIPTION:Pagamento de IVA 5 dias após a emissão da Declaração Periódica de IVA
URL:https://crncontabilidade.pt/calendario-fiscal/pagamento-do-iva-setembro-2/
LOCATION:Portugal
END:VEVENT
BEGIN:VEVENT
DTSTART;VALUE=DATE:20250910
DTEND;VALUE=DATE:20250911
DTSTAMP:20260424T133058
CREATED:20250113T170428Z
LAST-MODIFIED:20250207T141926Z
UID:13785-1757462400-1757548799@crncontabilidade.pt
SUMMARY:SS - Entrega da Declaração de Rendimento Contributivo à Segurança Social
DESCRIPTION:
URL:https://crncontabilidade.pt/calendario-fiscal/seguranca-social-setembro/
LOCATION:Portugal
END:VEVENT
BEGIN:VEVENT
DTSTART;VALUE=DATE:20250910
DTEND;VALUE=DATE:20250911
DTSTAMP:20260424T133058
CREATED:20250113T162835Z
LAST-MODIFIED:20250207T141931Z
UID:13751-1757462400-1757548799@crncontabilidade.pt
SUMMARY:IRS – Entrega DMR (Declaração Mensal de Remunerações)
DESCRIPTION:
URL:https://crncontabilidade.pt/calendario-fiscal/irs-entrega-dmr-declaracao-mensal-de-remuneracoes-setembro/
LOCATION:Portugal
END:VEVENT
BEGIN:VEVENT
DTSTART;VALUE=DATE:20250920
DTEND;VALUE=DATE:20250921
DTSTAMP:20260424T133058
CREATED:20250113T172122Z
LAST-MODIFIED:20250207T141922Z
UID:13805-1758326400-1758412799@crncontabilidade.pt
SUMMARY:IVA – Emissão da Declaração Periódica de IVA mensal
DESCRIPTION:
URL:https://crncontabilidade.pt/calendario-fiscal/iva-emissao-da-declaracao-periodica-de-iva-mensal-setembro/
LOCATION:Portugal
END:VEVENT
BEGIN:VEVENT
DTSTART;VALUE=DATE:20250925
DTEND;VALUE=DATE:20250926
DTSTAMP:20260424T133058
CREATED:20250113T174240Z
LAST-MODIFIED:20250207T141819Z
UID:13842-1758758400-1758844799@crncontabilidade.pt
SUMMARY:Pagamento do IVA
DESCRIPTION:Pagamento de IVA após 5 dias após a emissão da Declaração Periódica de IVA
URL:https://crncontabilidade.pt/calendario-fiscal/pagamento-do-iva-setembro/
LOCATION:Portugal
END:VEVENT
BEGIN:VEVENT
DTSTART;VALUE=DATE:20250930
DTEND;VALUE=DATE:20251001
DTSTAMP:20260424T133058
CREATED:20250113T193218Z
LAST-MODIFIED:20250207T141814Z
UID:13955-1759190400-1759276799@crncontabilidade.pt
SUMMARY:IRC - PPC (Pagamento por Conta)
DESCRIPTION:
URL:https://crncontabilidade.pt/calendario-fiscal/irc-ppc-pagamento-por-conta-setembro/
LOCATION:Portugal
END:VEVENT
BEGIN:VEVENT
DTSTART;VALUE=DATE:20251010
DTEND;VALUE=DATE:20251011
DTSTAMP:20260424T133058
CREATED:20250113T170453Z
LAST-MODIFIED:20250207T141803Z
UID:13787-1760054400-1760140799@crncontabilidade.pt
SUMMARY:SS - Entrega da Declaração de Rendimento Contributivo à Segurança Social
DESCRIPTION:
URL:https://crncontabilidade.pt/calendario-fiscal/seguranca-social-outubro/
LOCATION:Portugal
END:VEVENT
END:VCALENDAR