BEGIN:VCALENDAR
VERSION:2.0
PRODID:-//CRN-Contabilidade - ECPv6.10.0//NONSGML v1.0//EN
CALSCALE:GREGORIAN
METHOD:PUBLISH
X-ORIGINAL-URL:https://crncontabilidade.pt
X-WR-CALDESC:Events for CRN-Contabilidade
REFRESH-INTERVAL;VALUE=DURATION:PT1H
X-Robots-Tag:noindex
X-PUBLISHED-TTL:PT1H
BEGIN:VTIMEZONE
TZID:Europe/Lisbon
BEGIN:DAYLIGHT
TZOFFSETFROM:+0000
TZOFFSETTO:+0100
TZNAME:WEST
DTSTART:20250330T010000
END:DAYLIGHT
BEGIN:STANDARD
TZOFFSETFROM:+0100
TZOFFSETTO:+0000
TZNAME:WET
DTSTART:20251026T010000
END:STANDARD
TZID:UTC
BEGIN:STANDARD
TZOFFSETFROM:+0000
TZOFFSETTO:+0000
TZNAME:UTC
DTSTART:20250101T000000
END:STANDARD
END:VTIMEZONE
BEGIN:VEVENT
DTSTART;VALUE=DATE:20250510
DTEND;VALUE=DATE:20250511
DTSTAMP:20260424T102826
CREATED:20250113T170041Z
LAST-MODIFIED:20250207T142256Z
UID:13777-1746835200-1746921599@crncontabilidade.pt
SUMMARY:SS - Entrega da Declaração de Rendimento Contributivo à Segurança Social
DESCRIPTION:
URL:https://crncontabilidade.pt/calendario-fiscal/seguranca-social-maio/
LOCATION:Portugal
END:VEVENT
BEGIN:VEVENT
DTSTART;VALUE=DATE:20250510
DTEND;VALUE=DATE:20250511
DTSTAMP:20260424T102826
CREATED:20250113T164155Z
LAST-MODIFIED:20250207T142301Z
UID:13759-1746835200-1746921599@crncontabilidade.pt
SUMMARY:IRS – Entrega DMR (Declaração Mensal de Remunerações)
DESCRIPTION:
URL:https://crncontabilidade.pt/calendario-fiscal/irs-entrega-dmr-declaracao-mensal-de-remuneracoes-maio/
LOCATION:Portugal
END:VEVENT
END:VCALENDAR